BEGIN:VCALENDAR
VERSION:2.0
PRODID:-// - ECPv4.9.14//NONSGML v1.0//EN
CALSCALE:GREGORIAN
METHOD:PUBLISH
X-ORIGINAL-URL:http://www.bianchiproducoes.com.br
X-WR-CALDESC:Eventos para 
BEGIN:VTIMEZONE
TZID:America/Sao_Paulo
BEGIN:STANDARD
TZOFFSETFROM:-0300
TZOFFSETTO:-0300
TZNAME:-03
DTSTART:20220101T000000
END:STANDARD
END:VTIMEZONE
BEGIN:VEVENT
DTSTART;TZID=America/Sao_Paulo:20220107T000000
DTEND;TZID=America/Sao_Paulo:20220109T000000
DTSTAMP:20260420T140451
CREATED:20220105T230438Z
LAST-MODIFIED:20220105T230438Z
UID:155-1641513600-1641686400@www.bianchiproducoes.com.br
SUMMARY:30º Aniversário de Calmon - SC
DESCRIPTION:
URL:http://www.bianchiproducoes.com.br/index.php/event/30o-aniversario-de-calmon-sc/
LOCATION:Calmon – SC\, SC\, Brasil
END:VEVENT
END:VCALENDAR