BEGIN:VCALENDAR
VERSION:2.0
PRODID:-// - ECPv4.9.14//NONSGML v1.0//EN
CALSCALE:GREGORIAN
METHOD:PUBLISH
X-ORIGINAL-URL:http://www.bianchiproducoes.com.br
X-WR-CALDESC:Eventos para 
BEGIN:VTIMEZONE
TZID:America/Sao_Paulo
BEGIN:STANDARD
TZOFFSETFROM:-0300
TZOFFSETTO:-0300
TZNAME:-03
DTSTART:20220101T000000
END:STANDARD
END:VTIMEZONE
BEGIN:VEVENT
DTSTART;TZID=America/Sao_Paulo:20220406T000000
DTEND;TZID=America/Sao_Paulo:20220410T000000
DTSTAMP:20260420T064513
CREATED:20220404T141621Z
LAST-MODIFIED:20220404T141621Z
UID:173-1649203200-1649548800@www.bianchiproducoes.com.br
SUMMARY:7ª FAIC
DESCRIPTION:
URL:http://www.bianchiproducoes.com.br/index.php/event/7a-faic/
LOCATION:SÃO DOMINGOS\, SÃO DOMINGOS\, SC\, Brasil
END:VEVENT
END:VCALENDAR