BEGIN:VCALENDAR
VERSION:2.0
PRODID:-// - ECPv4.9.14//NONSGML v1.0//EN
CALSCALE:GREGORIAN
METHOD:PUBLISH
X-ORIGINAL-URL:http://www.bianchiproducoes.com.br
X-WR-CALDESC:Eventos para 
BEGIN:VTIMEZONE
TZID:America/Sao_Paulo
BEGIN:STANDARD
TZOFFSETFROM:-0300
TZOFFSETTO:-0300
TZNAME:-03
DTSTART:20220101T000000
END:STANDARD
END:VTIMEZONE
BEGIN:VEVENT
DTSTART;VALUE=DATE:20220225
DTEND;VALUE=DATE:20220301
DTSTAMP:20260420T120627
CREATED:20220301T003516Z
LAST-MODIFIED:20220301T003516Z
UID:163-1645747200-1646092799@www.bianchiproducoes.com.br
SUMMARY:Carnaval Nova Bassano 2022
DESCRIPTION:
URL:http://www.bianchiproducoes.com.br/index.php/event/carnaval-nova-bassano-2022/
LOCATION:Nova Bassano\, Nova Bassano\, RS\, Brasil
END:VEVENT
END:VCALENDAR