BEGIN:VCALENDAR
VERSION:2.0
PRODID:-// - ECPv4.9.14//NONSGML v1.0//EN
CALSCALE:GREGORIAN
METHOD:PUBLISH
X-ORIGINAL-URL:http://www.bianchiproducoes.com.br
X-WR-CALDESC:Eventos para 
BEGIN:VTIMEZONE
TZID:America/Sao_Paulo
BEGIN:STANDARD
TZOFFSETFROM:-0300
TZOFFSETTO:-0300
TZNAME:-03
DTSTART:20220101T000000
END:STANDARD
END:VTIMEZONE
BEGIN:VEVENT
DTSTART;TZID=America/Sao_Paulo:20221021T000000
DTEND;TZID=America/Sao_Paulo:20221023T000000
DTSTAMP:20260419T182126
CREATED:20221008T162332Z
LAST-MODIFIED:20221008T162332Z
UID:228-1666310400-1666483200@www.bianchiproducoes.com.br
SUMMARY:EVENTO COOPERATIVO
DESCRIPTION:
URL:http://www.bianchiproducoes.com.br/index.php/event/evento-cooperativo/
LOCATION:MARIÓPOLIS\, MARIÓPOLIS\, PR\, Brasil
END:VEVENT
END:VCALENDAR