BEGIN:VCALENDAR
VERSION:2.0
PRODID:-// - ECPv4.9.14//NONSGML v1.0//EN
CALSCALE:GREGORIAN
METHOD:PUBLISH
X-ORIGINAL-URL:http://www.bianchiproducoes.com.br
X-WR-CALDESC:Eventos para 
BEGIN:VTIMEZONE
TZID:America/Sao_Paulo
BEGIN:STANDARD
TZOFFSETFROM:-0300
TZOFFSETTO:-0300
TZNAME:-03
DTSTART:20200101T000000
END:STANDARD
END:VTIMEZONE
BEGIN:VEVENT
DTSTART;VALUE=DATE:20200320
DTEND;VALUE=DATE:20200323
DTSTAMP:20260420T194146
CREATED:20200224T235011Z
LAST-MODIFIED:20200224T235011Z
UID:96-1584662400-1584921599@www.bianchiproducoes.com.br
SUMMARY:EXPO BARRA 2020
DESCRIPTION:
URL:http://www.bianchiproducoes.com.br/index.php/event/expo-barra-2020/
LOCATION:Barra Do Rio Azul\, Barra Do Rio Azul\, RS\, Brasil
END:VEVENT
END:VCALENDAR