BEGIN:VCALENDAR
VERSION:2.0
PRODID:-// - ECPv4.9.14//NONSGML v1.0//EN
CALSCALE:GREGORIAN
METHOD:PUBLISH
X-ORIGINAL-URL:http://www.bianchiproducoes.com.br
X-WR-CALDESC:Eventos para 
BEGIN:VTIMEZONE
TZID:America/Sao_Paulo
BEGIN:STANDARD
TZOFFSETFROM:-0300
TZOFFSETTO:-0300
TZNAME:-03
DTSTART:20220101T000000
END:STANDARD
END:VTIMEZONE
BEGIN:VEVENT
DTSTART;TZID=America/Sao_Paulo:20221111T000000
DTEND;TZID=America/Sao_Paulo:20221113T000000
DTSTAMP:20260419T145917
CREATED:20221109T000900Z
LAST-MODIFIED:20221109T000900Z
UID:232-1668124800-1668297600@www.bianchiproducoes.com.br
SUMMARY:EXPO IOMERÊ 2022
DESCRIPTION:
URL:http://www.bianchiproducoes.com.br/index.php/event/expo-iomere-2022/
LOCATION:IOMERÊ\, IOMERÊ\, SC\, Brasil
END:VEVENT
END:VCALENDAR