BEGIN:VCALENDAR
VERSION:2.0
PRODID:-// - ECPv4.9.14//NONSGML v1.0//EN
CALSCALE:GREGORIAN
METHOD:PUBLISH
X-ORIGINAL-URL:http://www.bianchiproducoes.com.br
X-WR-CALDESC:Eventos para 
BEGIN:VTIMEZONE
TZID:America/Sao_Paulo
BEGIN:STANDARD
TZOFFSETFROM:-0300
TZOFFSETTO:-0300
TZNAME:-03
DTSTART:20220101T000000
END:STANDARD
END:VTIMEZONE
BEGIN:VEVENT
DTSTART;TZID=America/Sao_Paulo:20220512T000000
DTEND;TZID=America/Sao_Paulo:20220515T000000
DTSTAMP:20260420T012855
CREATED:20220510T224748Z
LAST-MODIFIED:20220510T224748Z
UID:188-1652313600-1652572800@www.bianchiproducoes.com.br
SUMMARY:EXPOCON 2022
DESCRIPTION:
URL:http://www.bianchiproducoes.com.br/index.php/event/expocon-2022/
LOCATION:CONDOR\, CONDOR\, RS\, Brasil
END:VEVENT
END:VCALENDAR