BEGIN:VCALENDAR
VERSION:2.0
PRODID:-// - ECPv4.9.14//NONSGML v1.0//EN
CALSCALE:GREGORIAN
METHOD:PUBLISH
X-ORIGINAL-URL:http://www.bianchiproducoes.com.br
X-WR-CALDESC:Eventos para 
BEGIN:VTIMEZONE
TZID:America/Sao_Paulo
BEGIN:STANDARD
TZOFFSETFROM:-0300
TZOFFSETTO:-0300
TZNAME:-03
DTSTART:20200101T000000
END:STANDARD
END:VTIMEZONE
BEGIN:VEVENT
DTSTART;VALUE=DATE:20200305
DTEND;VALUE=DATE:20200309
DTSTAMP:20260420T194003
CREATED:20200303T233612Z
LAST-MODIFIED:20200303T233612Z
UID:107-1583366400-1583711999@www.bianchiproducoes.com.br
SUMMARY:EXPOPEDRAS 2020
DESCRIPTION:Feira das Pedras Preciosas de Ametista do Sul \n
URL:http://www.bianchiproducoes.com.br/index.php/event/expopedras-2020/
LOCATION:Ametista do Sul\, RS\, Brasil
END:VEVENT
END:VCALENDAR