BEGIN:VCALENDAR
VERSION:2.0
PRODID:-// - ECPv4.9.14//NONSGML v1.0//EN
CALSCALE:GREGORIAN
METHOD:PUBLISH
X-ORIGINAL-URL:http://www.bianchiproducoes.com.br
X-WR-CALDESC:Eventos para 
BEGIN:VTIMEZONE
TZID:America/Sao_Paulo
BEGIN:STANDARD
TZOFFSETFROM:-0300
TZOFFSETTO:-0300
TZNAME:-03
DTSTART:20220101T000000
END:STANDARD
END:VTIMEZONE
BEGIN:VEVENT
DTSTART;TZID=America/Sao_Paulo:20220806T000000
DTEND;TZID=America/Sao_Paulo:20220809T000000
DTSTAMP:20260419T215002
CREATED:20220726T014721Z
LAST-MODIFIED:20220726T014721Z
UID:208-1659744000-1660003200@www.bianchiproducoes.com.br
SUMMARY:EXPOTAPEJARA 2022
DESCRIPTION:
URL:http://www.bianchiproducoes.com.br/index.php/event/expotapejara-2022/
LOCATION:TAPEJARA\, TAPEJARA\, RS\, Brasil
END:VEVENT
END:VCALENDAR