BEGIN:VCALENDAR
VERSION:2.0
PRODID:-// - ECPv4.9.14//NONSGML v1.0//EN
CALSCALE:GREGORIAN
METHOD:PUBLISH
X-ORIGINAL-URL:http://www.bianchiproducoes.com.br
X-WR-CALDESC:Eventos para 
BEGIN:VTIMEZONE
TZID:America/Sao_Paulo
BEGIN:STANDARD
TZOFFSETFROM:-0300
TZOFFSETTO:-0300
TZNAME:-03
DTSTART:20210101T000000
END:STANDARD
END:VTIMEZONE
BEGIN:VEVENT
DTSTART;TZID=America/Sao_Paulo:20211216T000000
DTEND;TZID=America/Sao_Paulo:20211221T000000
DTSTAMP:20260420T155928
CREATED:20211222T012054Z
LAST-MODIFIED:20211222T012054Z
UID:151-1639612800-1640044800@www.bianchiproducoes.com.br
SUMMARY:Natal dos Ervais
DESCRIPTION:
URL:http://www.bianchiproducoes.com.br/index.php/event/natal-dos-ervais/
LOCATION:Palmeira das Missões – RS\, Brasil
END:VEVENT
END:VCALENDAR