BEGIN:VCALENDAR
VERSION:2.0
PRODID:-// - ECPv4.9.14//NONSGML v1.0//EN
CALSCALE:GREGORIAN
METHOD:PUBLISH
X-ORIGINAL-URL:http://www.bianchiproducoes.com.br
X-WR-CALDESC:Eventos para 
BEGIN:VTIMEZONE
TZID:America/Sao_Paulo
BEGIN:STANDARD
TZOFFSETFROM:-0300
TZOFFSETTO:-0300
TZNAME:-03
DTSTART:20220101T000000
END:STANDARD
END:VTIMEZONE
BEGIN:VEVENT
DTSTART;TZID=America/Sao_Paulo:20220421T000000
DTEND;TZID=America/Sao_Paulo:20220424T000000
DTSTAMP:20260420T031231
CREATED:20220418T120919Z
LAST-MODIFIED:20220418T120919Z
UID:177-1650499200-1650758400@www.bianchiproducoes.com.br
SUMMARY:XII FESTA DO PINHÃO
DESCRIPTION:
URL:http://www.bianchiproducoes.com.br/index.php/event/xii-festa-do-pinhao/
LOCATION:MUITOS CAPÕES/RS\, MUITOS CAPÕES\, RS\, Brasil
END:VEVENT
END:VCALENDAR